BEGIN:VCALENDAR
VERSION:2.0
PRODID:-//pretix//Waag_Tickets//
BEGIN:VTIMEZONE
TZID:Europe/Amsterdam
BEGIN:STANDARD
DTSTART:20001029T040000
RRULE:FREQ=YEARLY;BYDAY=-1SU;BYMONTH=10
TZNAME:CET
TZOFFSETFROM:+0200
TZOFFSETTO:+0100
END:STANDARD
BEGIN:DAYLIGHT
DTSTART:20000326T030000
RRULE:FREQ=YEARLY;BYDAY=-1SU;BYMONTH=3
TZNAME:CEST
TZOFFSETFROM:+0100
TZOFFSETTO:+0200
END:DAYLIGHT
END:VTIMEZONE
BEGIN:VEVENT
UID:pretix-maakschap-Maakschap-cafe-21mei26-0@tickets.waag.org
DTSTART;TZID=Europe/Amsterdam:20260521T170000
DTEND;TZID=Europe/Amsterdam:20260521T190000
DESCRIPTION:Kaartjes: https://tickets.waag.org/maakschap/Maakschap-cafe-21m
 ei26/\nOrganisator: Maakschap Amsterdam
DTSTAMP:20260423T161242Z
LOCATION:Cliffordstraat 36\, 1051 GV Amsterdam
SUMMARY:Maakschap Cafe on Tour bij Buurtwerkplaatsen 21 mei 2026
END:VEVENT
END:VCALENDAR
