BEGIN:VCALENDAR
VERSION:2.0
PRODID:-//pretix//Waag_Tickets//
BEGIN:VTIMEZONE
TZID:Europe/Amsterdam
BEGIN:STANDARD
DTSTART:20001029T040000
RRULE:FREQ=YEARLY;BYDAY=-1SU;BYMONTH=10
TZNAME:CET
TZOFFSETFROM:+0200
TZOFFSETTO:+0100
END:STANDARD
BEGIN:DAYLIGHT
DTSTART:20000326T030000
RRULE:FREQ=YEARLY;BYDAY=-1SU;BYMONTH=3
TZNAME:CEST
TZOFFSETFROM:+0100
TZOFFSETTO:+0200
END:DAYLIGHT
END:VTIMEZONE
BEGIN:VEVENT
UID:pretix-waag-HLIJmond-0@tickets.waag.org
DTSTART;TZID=Europe/Amsterdam:20250701T190000
DTEND;TZID=Europe/Amsterdam:20250701T210000
DESCRIPTION:Tickets: https://tickets.waag.org/waag/HLIJmond/\nOrganisator: 
 Waag Futurelab
DTSTAMP:20260422T110245Z
LOCATION:Bibliotheek IJmond Noord\, Kerkplein 5\, Beverwijk
SUMMARY:Hollandse Luchten: bijeenkomst IJmond
END:VEVENT
END:VCALENDAR
