BEGIN:VCALENDAR
VERSION:2.0
PRODID:-//pretix//Waag_Tickets//
BEGIN:VTIMEZONE
TZID:Europe/Amsterdam
BEGIN:STANDARD
DTSTART:20001029T040000
RRULE:FREQ=YEARLY;BYDAY=-1SU;BYMONTH=10
TZNAME:CET
TZOFFSETFROM:+0200
TZOFFSETTO:+0100
END:STANDARD
BEGIN:DAYLIGHT
DTSTART:20000326T030000
RRULE:FREQ=YEARLY;BYDAY=-1SU;BYMONTH=3
TZNAME:CEST
TZOFFSETFROM:+0100
TZOFFSETTO:+0200
END:DAYLIGHT
END:VTIMEZONE
BEGIN:VEVENT
UID:pretix-waag-textile-walk-2@tickets.waag.org
DTSTART;TZID=Europe/Amsterdam:20250920T120000
DTEND;TZID=Europe/Amsterdam:20250920T133000
DESCRIPTION:Tickets: https://tickets.waag.org/waag/textile-walk/2/\nOrganiz
 er: Waag Futurelab
DTSTAMP:20260421T085640Z
LOCATION:Waag Futurelab\, Nieuwmarkt 4\, 1012 CR Amsterdam
SUMMARY:City Walk: Textile Heritage
END:VEVENT
END:VCALENDAR
